BEGIN:VCALENDAR
VERSION:2.0
PRODID:-//Eventin//Event Calendar//EN
CALSCALE:GREGORIAN
METHOD:PUBLISH
BEGIN:VEVENT
UID:b3f40299436ff0ad2ae74edce707aa9d@www.reikiaustralia.com.au
SUMMARY:Reiki 1 Workshop
DESCRIPTION:Contact: Kirsty\nMore information:  https://giftsfromgaia.com.
 au/wellness-workshops-and-classes/reiki-level-1\nBooking: https://www.meet
 up.com/gifts-from-gaia/events/313501881/
LOCATION:Hobart
DTSTAMP:20260424T110247Z
DTSTART:20260516T000000Z
DTEND:20260517T060000Z
END:VEVENT
END:VCALENDAR
